BEGIN:VCALENDAR
VERSION:2.0
PRODID:-//Classe 1979 Vasanello - ECPv4.9.5//NONSGML v1.0//EN
CALSCALE:GREGORIAN
METHOD:PUBLISH
X-WR-CALNAME:Classe 1979 Vasanello
X-ORIGINAL-URL:https://www.classe1979.it
X-WR-CALDESC:Eventi per Classe 1979 Vasanello
BEGIN:VTIMEZONE
TZID:"Europe/Rome"
BEGIN:DAYLIGHT
TZOFFSETFROM:+0100
TZOFFSETTO:+0200
TZNAME:CEST
DTSTART:20180325T010000
END:DAYLIGHT
BEGIN:STANDARD
TZOFFSETFROM:+0200
TZOFFSETTO:+0100
TZNAME:CET
DTSTART:20181028T010000
END:STANDARD
END:VTIMEZONE
BEGIN:VEVENT
DTSTART;VALUE=DATE:20180812
DTEND;VALUE=DATE:20180820
DTSTAMP:20260420T053452
CREATED:20180805T084900Z
LAST-MODIFIED:20180817T232554Z
UID:1471-1534046400-1534651199@www.classe1979.it
SUMMARY:Santa Maria Assunta e San Rocco 2018
DESCRIPTION:Festività in onore di Santa Maria Assunta e San Rocco\nProgramma completo dei festeggiamenti 2018\nDomenica 12 Agosto:\n\nTriduo in onore di Santa Maria Assunta e San Rocco\nOre 16.30: Inizio torneo di Briscola e Tresette presso “Bar Costantini“\nOre 16.30: Inizio torneo di Playstation presso “Giocolandia“\n\nTorneo di Tennis\nOre 17.30: Inizio IV Torneo di Tennis Vasanello Masters Uomini “Classe 1979” \n\nPartita Inaugurale: Purchiaroni VS Palmieri\n\n\nOre 17.30: Recita S. Rosario\nOre 18.00: Santa Messa con canto dei Vespri\nOre 18.00: Inaugurazione di “Arte in Festa“\, mostra di pittura aperta fino al 19/08/2018 presso le Scuole Elementari\, esporranno gli artisti:\n\nAntonio Ciccolini\nClaud\nMarcella Lannaioli\nSilvia Pace\nGiancarlo Tabacchi\n\n\nOre 18.00: Inizio Torneo di Calcetto U14 dei Rioni\, presso Arena Polivalente\n\nSfilata Intimo Erasmi\nOre 22.00: Sfilata di Moda “Intimo Erasmi Abbigliamento“\, in Piazza della Repubblica\n\nLunedì 13 Agosto:\n\nTriduo in onore di Santa Maria Assunta e San Rocco\nOre 16.30: Torneo di Briscola e Tresette presso “Bar Costantini“\nOre 16.30: Torneo di Playstation presso “Giocolandia“\nOre 17.30: IV Torneo di Tennis Vasanello Masters Uomini “Classe 1979“\nOre 17.30: Recita S. Rosario\nOre 18.00: Santa Messa con canto dei Vespri\nOre 18.00: “Arte in Festa“\, mostra di pittura presso le Scuole Elementari\nOre 18.00: Torneo di Calcetto U14 dei Rioni – Finali\, presso Arena Polivalente\nOre 21.30: “Alla Ricerca del Borgo Perduto“\, Passeggiata nel centro storico raccontando dei palazzi\, fornaci e famiglie che hanno segnato la Comunità di Bassanello tra il 1600 e il 1800 con aperitivo finale\n\nPartenza da Piazza Vittorio Veneto\, Guida: Antonio Scarelli\nItinerario: Da Piazza del Giardino\, Casa don Lepido Libriani\, Celestini\, Casa Tranpha\, i Corazza\, palazzo Madresanta\, monte Frumentario\, palazzo Gentili\, Intascha\, Fabbiani\, Lannaioli\, Mariani\, Vespasiani e Modio\, Fornaci Chiodi\, Porri\, Mecocci\, Ricci\, Menicacci e Barberini\nBalla e Sogna… Come in una Fiaba…\n\n\nOre 21.30: Saggio di Danza e di Ginnastica Artistica “Balla e Sogna… Come in una Fiaba…” a cura di ASD Feel Body Vasanello\, in Piazza della Repubblica\n\nMartedì 14 Agosto:\n\nOre 12.00: Apertura festeggiamenti con Fragoroso Sparo di Bombe\nTriduo in onore di Santa Maria Assunta e San Rocco\nOre 16.00/24.00: Caccia al Tesoro “Fantasy” e Combattimenti Medievali per bambini e adulti a cura di “Epica Eventi“\nOre 17.30: Recita S. Rosario\nOre 18.00: Santa Messa con canto dei Vespri\nOre 18.00: “Arte in Festa“\, mostra di pittura presso le Scuole Elementari\nOre 18.00: IV Torneo di Tennis Vasanello Masters Uomini “Classe 1979“\, Finale\nOre 21.00: Solenne Processione per le vie del paese\, accompagnata dalla banda musicale “G. Porri” di Vasanello\nOre 22.00: Concerto Four Vegas “Grease Party“\n\nSimocar – Sponsor San Rocco\nMercoledì 15 Agosto:\n\n\n\nOre 8.00: Fragoroso Sparo di Bombe\nOre 8.00 – 11.30: ss. Messe – Solennità Santa Maria Assunta\nOre 16.00/24.00: Caccia al Tesoro “Fantasy” e Combattimenti Medievali per bambini e adulti a cura di “Epica Eventi“\nOre 16.30: Torneo di Briscola e Tresette presso “Bar Costantini“\, Finale\nOre 16.30: Torneo di Playstation presso “Giocolandia“\, Finale\nOre 17.00: Baby Frog\, animazione per bambini con gonfiabili\, presso Parco Comunale\nOre 18.00: Santa Messa – Solennità Santa Maria Assunta\nOre 18.00: “Arte in Festa“\, mostra di pittura presso le Scuole Elementari\n\n\n\n\nOre 21.30: Spettacolo di Magia con Maga Eleonora “Princess of Magic“\nOre 22.45: Spettacolo “Ballerina di Pole Dance” e DJ Marco\n\nMagic Bar – Sponsor San Rocco\nGiovedì 16 Agosto:\n\nOre 8.00: Fragoroso Sparo di Bombe\nOre 8.00 – 11.30: ss. Messe – Solennità Santa Maria Assunta e San Rocco\nOre 8.00/10.30: Donazione Sangue presso il Centro AVIS in via G. Marconi\nOre 12.00: Fragoroso Sparo di Bombe\nOre 16.00/24.00: Caccia al Tesoro “Fantasy” e Combattimenti Medievali per bambini e adulti a cura di “Epica Eventi“\nOre 18.00: Santa Messa – Solennità Santa Maria Assunta e San Rocco\nOre 18.00: “Arte in Festa“\, mostra di pittura presso le Scuole Elementari\nLa Frustica\nOre 18.00: Esibizione della Banda “La Frustica” per le vie del paese\, con esibizione finale all’Arena Polivalente\nFestival Street Food\nOre 18.00: Apertura 1° Festival dello Street Food\, presso la Passeggiata in Viale G. Marconi\nOre 21.30: Concerto di Alexia – Summer Tour 2018\, in Piazza della Repubblica\nOre 23.30: Tombola\nOre 24.00: Spettacolo Pirotecnico\, a cura della Ditta Pirotecnica Marchigiana\n\nPerugini Ceramiche – Sponsor San Rocco\nVenerdì 17 Agosto\n\nOre 18.00: Santa Messa – Chiesa Santa Maria Assunta\nOre 19.00: Premiazione Torneo di Tennis\nAlice nel Paese delle Meraviglie\nOre 22.00: Spettacolo “Alice nel Paese delle Meraviglie” a cura della scuola di Vasanello “Armonia Danza” diretta da Francesca Candy\, in Piazza della Repubblica\n\nSabato 18 Agosto:\n\nOre 18.00: Estrazione Lotteria (Attenzione! L’estrazione avverrà alle ore 18.00 anziché alle ore 12.00 come precedentemente indicato)\n\n
URL:https://www.classe1979.it/event/san-rocco-2018/
LOCATION:Vasanello (VT)\, Vasanello\, VT\, 01030\, Italia
ATTACH;FMTTYPE=image/jpeg:https://www.classe1979.it/wp-content/uploads/2018/08/san_rocco_locandina.jpeg
ORGANIZER;CN="Classe%201979":MAILTO:info@classe1979.it
END:VEVENT
END:VCALENDAR