BEGIN:VCALENDAR
VERSION:2.0
PRODID:-//Classe 1979 Vasanello - ECPv4.9.5//NONSGML v1.0//EN
CALSCALE:GREGORIAN
METHOD:PUBLISH
X-WR-CALNAME:Classe 1979 Vasanello
X-ORIGINAL-URL:https://www.classe1979.it
X-WR-CALDESC:Eventi per Classe 1979 Vasanello
BEGIN:VTIMEZONE
TZID:"Europe/Rome"
BEGIN:DAYLIGHT
TZOFFSETFROM:+0100
TZOFFSETTO:+0200
TZNAME:CEST
DTSTART:20190331T010000
END:DAYLIGHT
BEGIN:STANDARD
TZOFFSETFROM:+0200
TZOFFSETTO:+0100
TZNAME:CET
DTSTART:20191027T010000
END:STANDARD
END:VTIMEZONE
BEGIN:VEVENT
DTSTART;TZID="Europe/Rome":20190506T213000
DTEND;TZID="Europe/Rome":20190506T233000
DTSTAMP:20260420T065225
CREATED:20190403T204855Z
LAST-MODIFIED:20190504T105626Z
UID:21459-1557178200-1557185400@www.classe1979.it
SUMMARY:Le Vibrazioni in Concerto - Spostato al 6 Maggio
DESCRIPTION:IMPORTANTE: Il concerto è stato spostato al giorno successivo\, lunedì 6 Maggio\, causa maltempo.\nLe Vibrazioni – San Lanno 2019\n6 maggio 2019\, ore 21.30\, Ingresso Gratuito\nPiazza della Repubblica\, Vasanello (VT)\nLa Classe 1979\, in occasione dei festeggiamenti di San Lanno 2019\, è lieta di proporre il concerto de Le Vibrazioni! Il gruppo\, capitanato dal cantante e chitarrista Francesco Sarcina\, annuncia il suo ritorno sulle scene musicali nel 2017. Nel 2018 partecipano al Festival di Sanremo 2018 con il brano “Così Sbagliato” e nel febbraio dello stesso anno danno alla luce il loro quinto album dal titolo “V“. A gennaio 2019 esce il loro singolo “Cambia“\, il quale rende omaggio a “Dedicato a Te“\, loro grande successo del 2003. \nIl tour\nLe Vibrazioni saranno impegnati in un tour europeo che partirà a settembre 2019. Inizialmente prevista per febbraio\, la tournée è stata rinviata a a causa di improvvisi impegni promozionali e organizzativi. Il tour toccherà importanti mete europee come Berlino\, Londra\, Parigi e Madrid. Al momento in Italia sono previste poche date\, avere la possibilità di vederli gratuitamente è sicuramente un’occasione da cogliere al volo! Ti aspettiamo a Vasanello!! \nDedicato a Te\nLa carriera\nQuesti straordinari artisti sono saliti alla luce della ribalta nel 2003 col singolo “Dedicato a Te“. Il brano gli ha permesso di ottenere il disco di platino in pochissime settimane. Sull’onda del successo travolgente pubblicano il loro primo album “Le Vibrazioni” nello stesso anno. Dal loro primo album vengono estratti quattro singoli tra i quali “Vieni da Me” e “E Se Ne Va“\, quest’ultima diventerà la colonna sonora del film “Tre Metri Sopra il Cielo“. \nNel 2005 partecipano al Festival di Sanremo\, rilasciando il loro secondo album “Le Vibrazioni II” che viene certificato disco d’oro. Il loro terzo album “Officine Meccaniche” esce a fine 2006 marcando una svolta rock\, allontanandosi così dalle sonorità dei primi due album. “Le Strade del Tempo“\, quarto album uscito a fine 2009\, darà loro la possibilità di suonare insieme agli AC/DC in occasione della loro data italiana di Udine. \nNel 2012 dopo l’ultima tappa del Vibratour il gruppo decide di prendersi una pausa che dura ben cinque anni\, fino al loro ritorno del 2017. \nPer maggiori informazioni\nPer maggiori informazioni su Le Vibrazioni ti invitiamo a visitare la loro pagina Instagram. \nIl programma completo dei festeggiamenti di San Lanno Martire sarà prossimamente disponibile. \nVisita la nostra pagina Facebook e condividila con i tuoi amici per non perdere nessuna news\, e non dimenticare di mettere il like! \n
URL:https://www.classe1979.it/event/le-vibrazioni-in-concerto/
LOCATION:Piazza della Repubblica – Vasanello (VT)\, Piazza della Repubblica\, Vasanello\, VT\, 01030\, Italia
ATTACH;FMTTYPE=image/jpeg:https://www.classe1979.it/wp-content/uploads/2019/04/levibrazioni_copertina.jpg
ORGANIZER;CN="Classe%201979":MAILTO:info@classe1979.it
END:VEVENT
END:VCALENDAR