BEGIN:VCALENDAR
VERSION:2.0
PRODID:-//Classe 1979 Vasanello - ECPv4.9.5//NONSGML v1.0//EN
CALSCALE:GREGORIAN
METHOD:PUBLISH
X-WR-CALNAME:Classe 1979 Vasanello
X-ORIGINAL-URL:https://www.classe1979.it
X-WR-CALDESC:Eventi per Classe 1979 Vasanello
BEGIN:VTIMEZONE
TZID:"Europe/Rome"
BEGIN:DAYLIGHT
TZOFFSETFROM:+0100
TZOFFSETTO:+0200
TZNAME:CEST
DTSTART:20190331T010000
END:DAYLIGHT
BEGIN:STANDARD
TZOFFSETFROM:+0200
TZOFFSETTO:+0100
TZNAME:CET
DTSTART:20191027T010000
END:STANDARD
END:VTIMEZONE
BEGIN:VEVENT
DTSTART;TZID="Europe/Rome":20190106T150000
DTEND;TZID="Europe/Rome":20190106T193000
DTSTAMP:20260420T053431
CREATED:20181229T143935Z
LAST-MODIFIED:20181229T144325Z
UID:21312-1546786800-1546803000@www.classe1979.it
SUMMARY:Vola Befana Vola
DESCRIPTION:Vola Befana Vola\n6 Gennaio 2019\, a partire dalle ore 15.00\nPiazza della Repubblica\, Vasanello (VT)\nVola Befana Vola\nLa giornata\nIl Comune di Vasanello\, in collaborazione con la Classe 1979 e l’Associazione “Dioniso“\, organizzerà una giornata all’insegna del divertimento per grandi e bambini. \nSi partirà dalle ore 15.00 con musica e giochi in piazza per poi proseguire alle 16.30 con la tombola per i bambini. Alle 17.45 ci sarà il volo della befana con il lancio delle caramelle\, a cura dell’Associazione “Dioniso”\, con spettacolo pirotecnico a seguire. Per concludere\, alle ore 18.30\, la Classe 1979 proporrà la classica Tombola. \nIl programma\n\nOre 15.00: Musica e giochi in Piazza.\nOre 16.30: Tombola del Bambino.\nOre 17.45: “Vola Befana Vola” a cura dell’Associazione “Dioniso“\, a seguire spettacolo pirotecnico\,\nOre 18.30: Tombola della Befana a cura della Classe 1979.\n\nVisita la nostra pagina Facebook e condividila con i tuoi amici per non perdere nessuna news sui prossimi eventi\, e non dimenticare di mettere il like! \n
URL:https://www.classe1979.it/event/befana_2019/
LOCATION:Piazza della Repubblica – Vasanello (VT)\, Piazza della Repubblica\, Vasanello\, VT\, 01030\, Italia
ATTACH;FMTTYPE=image/jpeg:https://www.classe1979.it/wp-content/uploads/2018/12/befana.jpg
END:VEVENT
END:VCALENDAR