BEGIN:VCALENDAR
VERSION:2.0
PRODID:-//Classe 1979 Vasanello - ECPv4.9.5//NONSGML v1.0//EN
CALSCALE:GREGORIAN
METHOD:PUBLISH
X-WR-CALNAME:Classe 1979 Vasanello
X-ORIGINAL-URL:https://www.classe1979.it
X-WR-CALDESC:Eventi per Classe 1979 Vasanello
BEGIN:VTIMEZONE
TZID:"Europe/Rome"
BEGIN:DAYLIGHT
TZOFFSETFROM:+0100
TZOFFSETTO:+0200
TZNAME:CEST
DTSTART:20180325T010000
END:DAYLIGHT
BEGIN:STANDARD
TZOFFSETFROM:+0200
TZOFFSETTO:+0100
TZNAME:CET
DTSTART:20181028T010000
END:STANDARD
END:VTIMEZONE
BEGIN:VEVENT
DTSTART;TZID="Europe/Rome":20180914T200000
DTEND;TZID="Europe/Rome":20180916T150000
DTSTAMP:20260420T040955
CREATED:20180912T201632Z
LAST-MODIFIED:20180912T211136Z
UID:1813-1536955200-1537110000@www.classe1979.it
SUMMARY:Antiche Vie del Gusto 2018
DESCRIPTION:Antiche Vie del Gusto 2018\, XIII^ Edizione\nDal 14 al 16 settembre 2018\, Centro Storico di Vasanello (VT)\nDopo il grande successo degli eventi precedenti\, la Classe 1979 chiuderà l’estate nel modo migliore\, proponendo le Antiche Vie del Gusto. Questo evento imperdibile è giunto ormai alla tredicesima edizione e riesce a coniugare perfettamente il turismo con il piacere del buon cibo. \n \nL’evento\nL’itinerario enogastronomico è composto da 6 tappe\, posizionate con cura nel centro storico del paese\, dove sarà possibile visitare l’antico borgo e gustare gli antichi sapori della tradizione vasanellese\, senza ovviamente farsi mancare musica e intrattenimento.  Le Antiche Vie del Gusto sono molto più di un percorso guidato e di un itinerario suggestivo\, sono il frutto di un lavoro appassionato che conduce i turisti alle radici della storia di Vasanello e delle sue tradizioni\, nel segno della cultura e del cibo. \nL’itinerario\nNell’itinerario troverete esclusivamente cibo preparato artigianalmente usando le migliori materie prime e carne di primissima scelta. Un tipico esempio di piatto tradizionale è la Padellaccia\, di solito si prepara  il giorno in cui si macella il maiale usandone i ritagli\, un piatto semplice\, ma gustoso e saporito. \nIl menù\nIl menù dell’itinerario ha un costo fisso di 20 euro ed è composto come di seguito: \n\nSan Salvatore: Antipasto con Formaggio\, Frittelle\, Panzanella\, Crostini con ricotta e con patè\nPiazza dell’Orologio: Pasta e Ceci\nPiazza Padella: Polenta con Sugo\nLavatoio: Padellaccia\nSan Sebastiano: Salsiccie e Cicoria\nPiazza dell’Ortaccio: Dolcetti e Liquori\n\nNel menù sono inoltre compresi acqua e vino selezionato con cura proveniente dalle cantine di nostra fiducia. \nGli appuntamenti\nDi seguito gli appuntamenti per le 3 giornate: \n\nVenerdì 14 settembre dalle ore 20.00 (solo cena)\nSabato 15 settembre dalle ore 20.00 (solo cena)\nDomenica 16 settembre dalle ore 12.30 (solo pranzo)\n\nNon dimenticare di visitare la nostra pagina Facebook e di condividerla con i tuoi amici per non perdere nessuna news sui prossimi eventi\, e ricordati di lasciare il like! \nPer ulteriori informazioni e per parlare con noi puoi scrivere una mail a info@classe1979.it \n
URL:https://www.classe1979.it/event/antiche-vie-del-gusto-2018/
LOCATION:Centro Storico – Vasanello (VT)\, Centro Storico\, Vasanello\, VT\, 01030\, Italia
ATTACH;FMTTYPE=image/jpeg:https://www.classe1979.it/wp-content/uploads/2018/09/viedelgusto.jpg
ORGANIZER;CN="Classe%201979":MAILTO:info@classe1979.it
END:VEVENT
END:VCALENDAR